BEGIN:VCALENDAR
VERSION:2.0
PRODID:-//YWI Dormansland - ECPv6.15.14//NONSGML v1.0//EN
CALSCALE:GREGORIAN
METHOD:PUBLISH
X-WR-CALNAME:YWI Dormansland
X-ORIGINAL-URL:https://ywidormansland.org.uk
X-WR-CALDESC:Events for YWI Dormansland
REFRESH-INTERVAL;VALUE=DURATION:PT1H
X-Robots-Tag:noindex
X-PUBLISHED-TTL:PT1H
BEGIN:VTIMEZONE
TZID:UTC
BEGIN:STANDARD
TZOFFSETFROM:+0000
TZOFFSETTO:+0000
TZNAME:UTC
DTSTART:20230101T000000
END:STANDARD
END:VTIMEZONE
BEGIN:VEVENT
DTSTART;TZID=UTC:20240910T200000
DTEND;TZID=UTC:20240910T214500
DTSTAMP:20260421T095004
CREATED:20240416T214046Z
LAST-MODIFIED:20240901T225448Z
UID:2101-1725998400-1726004700@ywidormansland.org.uk
SUMMARY:Meeting. Womens Land Army
DESCRIPTION:We look forward to welcoming Ian Everest. Ian\, who’s mother was one of the 80\,000 Land Girls during WW2 will tell us about the vital role of the Women’s Land Army during WWII. Promises to be an interesting one.
URL:https://ywidormansland.org.uk/event/meeting-wwiis-land-army/
CATEGORIES:Meetings
ATTACH;FMTTYPE=image/jpeg:https://ywidormansland.org.uk/wp-content/uploads/2024/04/landArmy.jpg
END:VEVENT
BEGIN:VEVENT
DTSTART;TZID=UTC:20240925T193000
DTEND;TZID=UTC:20240925T220000
DTSTAMP:20260421T095004
CREATED:20240923T210910Z
LAST-MODIFIED:20240923T210933Z
UID:2230-1727292600-1727301600@ywidormansland.org.uk
SUMMARY:Social. Matthew Bournes Edward Scissorhands
DESCRIPTION:Cinema screening of this contemporary ballet.
URL:https://ywidormansland.org.uk/event/social-matthew-bournes-edward-scissorhands/
LOCATION:The Atrium\, 10 King St\, East Grinstead\, RH19 3DJ
CATEGORIES:Social
ATTACH;FMTTYPE=image/jpeg:https://ywidormansland.org.uk/wp-content/uploads/2024/09/Edwardscissorhands.jpg
ORGANIZER;CN="Annie":MAILTO:anne.robinson@btinternet.com
END:VEVENT
END:VCALENDAR