BEGIN:VCALENDAR
VERSION:2.0
PRODID:-//YWI Dormansland - ECPv6.15.14//NONSGML v1.0//EN
CALSCALE:GREGORIAN
METHOD:PUBLISH
X-ORIGINAL-URL:https://ywidormansland.org.uk
X-WR-CALDESC:Events for YWI Dormansland
REFRESH-INTERVAL;VALUE=DURATION:PT1H
X-Robots-Tag:noindex
X-PUBLISHED-TTL:PT1H
BEGIN:VTIMEZONE
TZID:UTC
BEGIN:STANDARD
TZOFFSETFROM:+0000
TZOFFSETTO:+0000
TZNAME:UTC
DTSTART:20220101T000000
END:STANDARD
END:VTIMEZONE
BEGIN:VEVENT
DTSTART;TZID=UTC:20230902T093000
DTEND;TZID=UTC:20230902T110000
DTSTAMP:20260422T040914
CREATED:20230508T211638Z
LAST-MODIFIED:20230508T211639Z
UID:1766-1693647000-1693652400@ywidormansland.org.uk
SUMMARY:Step Out with the Sole Sisters & Brunch
DESCRIPTION:A local circular\, dog-friendly walk with the option to stay for brunch at the Baptist church Community Cafe.  \n\n\n\nMeet at the Memorial Hall car park.  \n\n\n\nPlease note\, the cafe is a public event and not organised by YWI\, thanks
URL:https://ywidormansland.org.uk/event/step-out-with-the-sole-sisters-brunch-3/
CATEGORIES:Walking
ATTACH;FMTTYPE=image/png:https://ywidormansland.org.uk/wp-content/uploads/2021/05/circle-cropped-4.png
END:VEVENT
BEGIN:VEVENT
DTSTART;TZID=UTC:20230912T190000
DTEND;TZID=UTC:20230912T203000
DTSTAMP:20260422T040914
CREATED:20221123T174806Z
LAST-MODIFIED:20230220T131309Z
UID:1581-1694545200-1694550600@ywidormansland.org.uk
SUMMARY:Play some Golf!
DESCRIPTION:
URL:https://ywidormansland.org.uk/event/play-some-golf/
CATEGORIES:Meetings
ATTACH;FMTTYPE=image/jpeg:https://ywidormansland.org.uk/wp-content/uploads/2022/03/KCMoreDetails.jpg
ORGANIZER;CN="YWI Dormansland":MAILTO:infoywidormansland@surreyfedwi.org.uk
END:VEVENT
END:VCALENDAR