BEGIN:VCALENDAR
VERSION:2.0
PRODID:-//YWI Dormansland - ECPv6.15.14//NONSGML v1.0//EN
CALSCALE:GREGORIAN
METHOD:PUBLISH
X-ORIGINAL-URL:https://ywidormansland.org.uk
X-WR-CALDESC:Events for YWI Dormansland
REFRESH-INTERVAL;VALUE=DURATION:PT1H
X-Robots-Tag:noindex
X-PUBLISHED-TTL:PT1H
BEGIN:VTIMEZONE
TZID:UTC
BEGIN:STANDARD
TZOFFSETFROM:+0000
TZOFFSETTO:+0000
TZNAME:UTC
DTSTART:20220101T000000
END:STANDARD
END:VTIMEZONE
BEGIN:VEVENT
DTSTART;TZID=UTC:20230603T093000
DTEND;TZID=UTC:20230603T110000
DTSTAMP:20260422T091717
CREATED:20230509T135835Z
LAST-MODIFIED:20230509T135836Z
UID:1768-1685784600-1685790000@ywidormansland.org.uk
SUMMARY:Step Out with the Sole Sisters & Brunch
DESCRIPTION:A local circular\, dog-friendly walk with the option to stay for brunch at the Baptist church Community Cafe. \n\n\n\nMeet at the Memorial Hall car park. \n\n\n\nPlease note\, the cafe is a public event and not organised by YWI\, thanks
URL:https://ywidormansland.org.uk/event/step-out-with-the-sole-sisters-brunch-4/
CATEGORIES:Walking
ATTACH;FMTTYPE=image/png:https://ywidormansland.org.uk/wp-content/uploads/2021/05/circle-cropped-4.png
END:VEVENT
BEGIN:VEVENT
DTSTART;TZID=UTC:20230613T200000
DTEND;TZID=UTC:20230613T214500
DTSTAMP:20260422T091717
CREATED:20221123T174604Z
LAST-MODIFIED:20230119T191513Z
UID:1577-1686686400-1686692700@ywidormansland.org.uk
SUMMARY:Carnival Prep and Summer Raffle
DESCRIPTION:A fun and sociable evening preparing for The Dormansland Carnival The Wild Wild West – float\, costumes and our fundraising stall. Plus a summer raffle and refreshments.
URL:https://ywidormansland.org.uk/event/carnival-prep-social/
LOCATION:The Parish Room\, The Platt\, Dormansland\, Lingfield\, Surrey\, RH7 6QZ
CATEGORIES:Meetings,Social
ATTACH;FMTTYPE=image/jpeg:https://ywidormansland.org.uk/wp-content/uploads/2022/07/AAYY4264.jpg
ORGANIZER;CN="YWI Dormansland":MAILTO:infoywidormansland@surreyfedwi.org.uk
END:VEVENT
END:VCALENDAR