BEGIN:VCALENDAR
VERSION:2.0
PRODID:-//YWI Dormansland - ECPv6.15.14//NONSGML v1.0//EN
CALSCALE:GREGORIAN
METHOD:PUBLISH
X-WR-CALNAME:YWI Dormansland
X-ORIGINAL-URL:https://ywidormansland.org.uk
X-WR-CALDESC:Events for YWI Dormansland
REFRESH-INTERVAL;VALUE=DURATION:PT1H
X-Robots-Tag:noindex
X-PUBLISHED-TTL:PT1H
BEGIN:VTIMEZONE
TZID:UTC
BEGIN:STANDARD
TZOFFSETFROM:+0000
TZOFFSETTO:+0000
TZNAME:UTC
DTSTART:20220101T000000
END:STANDARD
END:VTIMEZONE
BEGIN:VEVENT
DTSTART;TZID=UTC:20230314T190000
DTEND;TZID=UTC:20230314T210000
DTSTAMP:20260422T133919
CREATED:20230109T221308Z
LAST-MODIFIED:20230119T191935Z
UID:1617-1678820400-1678827600@ywidormansland.org.uk
SUMMARY:Visit to Green Watch - Godstone Fire Station
DESCRIPTION:An earlier start than normal (7PM)\, car share where possible and meet at Godstone Fire Station where Green Watch will provide demonstrations and information on fire safety and the local fire service. Members should aim to car share please
URL:https://ywidormansland.org.uk/event/green-watch-visit-to-godstone-firestation/
LOCATION:Godstone Fire Station\, Godstone Hill Road\, Godstone\, RH9 8BQ\, United Kingdom
CATEGORIES:Meetings
ATTACH;FMTTYPE=image/jpeg:https://ywidormansland.org.uk/wp-content/uploads/2023/01/gfs.jpg
ORGANIZER;CN="YWI Dormansland":MAILTO:infoywidormansland@surreyfedwi.org.uk
END:VEVENT
BEGIN:VEVENT
DTSTART;TZID=UTC:20230329T193000
DTEND;TZID=UTC:20230329T213000
DTSTAMP:20260422T133919
CREATED:20230328T121339Z
LAST-MODIFIED:20230328T121417Z
UID:1709-1680118200-1680125400@ywidormansland.org.uk
SUMMARY:Lemons Lemons Lemons the Play
DESCRIPTION:Click the Lemons the Play button below for more details.\n\n\n\nOur tickets are now all sold. \n\n\n\n\n\n\n\n\n\n#
URL:https://ywidormansland.org.uk/event/lemons-lemons-lemons-the-play/
LOCATION:Theatre Royal Brighton\, New Rd\,\, Brighton\, BN1 1SD
CATEGORIES:Social
ATTACH;FMTTYPE=image/jpeg:https://ywidormansland.org.uk/wp-content/uploads/2023/03/lemons.jpg
END:VEVENT
END:VCALENDAR