BEGIN:VCALENDAR
VERSION:2.0
PRODID:-//YWI Dormansland - ECPv6.15.14//NONSGML v1.0//EN
CALSCALE:GREGORIAN
METHOD:PUBLISH
X-WR-CALNAME:YWI Dormansland
X-ORIGINAL-URL:https://ywidormansland.org.uk
X-WR-CALDESC:Events for YWI Dormansland
REFRESH-INTERVAL;VALUE=DURATION:PT1H
X-Robots-Tag:noindex
X-PUBLISHED-TTL:PT1H
BEGIN:VTIMEZONE
TZID:UTC
BEGIN:STANDARD
TZOFFSETFROM:+0000
TZOFFSETTO:+0000
TZNAME:UTC
DTSTART:20210101T000000
END:STANDARD
END:VTIMEZONE
BEGIN:VTIMEZONE
TZID:UTC
BEGIN:STANDARD
TZOFFSETFROM:+0000
TZOFFSETTO:+0000
TZNAME:UTC
DTSTART:20210101T000000
END:STANDARD
END:VTIMEZONE
BEGIN:VEVENT
DTSTART;TZID=UTC:20220903T093000
DTEND;TZID=UTC:20220903T120000
DTSTAMP:20260422T224800
CREATED:20220629T113035Z
LAST-MODIFIED:20220830T124306Z
UID:1258-1662197400-1662206400@ywidormansland.org.uk
SUMMARY:Step Out with the Sole Sisters & Brunch
DESCRIPTION:A local walk followed by brunch at the DBC Community Cafe if you’d like to stay. \n\n\n\nMeet/Park in the Memorial hall car park.
URL:https://ywidormansland.org.uk/event/step-out-with-the-soul-sisters-brunch-2/
CATEGORIES:Walking
ATTACH;FMTTYPE=image/png:https://ywidormansland.org.uk/wp-content/uploads/2021/05/circle-cropped-4.png
END:VEVENT
BEGIN:VEVENT
DTSTART;TZID=UTC:20220913T200000
DTEND;TZID=UTC:20220913T214500
DTSTAMP:20260422T224800
CREATED:20220303T161415Z
LAST-MODIFIED:20220908T164853Z
UID:1105-1663099200-1663105500@ywidormansland.org.uk
SUMMARY:A Ride Through the History of Carriage Driving
DESCRIPTION:Antonia Gallop will be with us andgive us “A ride through history of carriage driving”
URL:https://ywidormansland.org.uk/event/meeting-details-to-be-confirmed/
LOCATION:The Parish Room\, The Platt\, Dormansland\, Lingfield\, Surrey\, RH7 6QZ
CATEGORIES:Meetings
ATTACH;FMTTYPE=image/jpeg:https://ywidormansland.org.uk/wp-content/uploads/2022/04/ag.jpg
ORGANIZER;CN="YWI Dormansland":MAILTO:infoywidormansland@surreyfedwi.org.uk
END:VEVENT
END:VCALENDAR