BEGIN:VCALENDAR
VERSION:2.0
PRODID:-//YWI Dormansland - ECPv6.15.14//NONSGML v1.0//EN
CALSCALE:GREGORIAN
METHOD:PUBLISH
X-ORIGINAL-URL:https://ywidormansland.org.uk
X-WR-CALDESC:Events for YWI Dormansland
REFRESH-INTERVAL;VALUE=DURATION:PT1H
X-Robots-Tag:noindex
X-PUBLISHED-TTL:PT1H
BEGIN:VTIMEZONE
TZID:UTC
BEGIN:STANDARD
TZOFFSETFROM:+0000
TZOFFSETTO:+0000
TZNAME:UTC
DTSTART:20210101T000000
END:STANDARD
END:VTIMEZONE
BEGIN:VEVENT
DTSTART;TZID=UTC:20220412T200000
DTEND;TZID=UTC:20220412T214500
DTSTAMP:20260423T070347
CREATED:20211206T213012Z
LAST-MODIFIED:20220303T171929Z
UID:992-1649793600-1649799900@ywidormansland.org.uk
SUMMARY:Learn the Charleston!
DESCRIPTION:If this feels too energetic for you\, there are 2 other options to join in; chair-based Charleston moves or become part of the Strictly YWI judging panel (4 places) for the final dance-off! Please wear comfy clothes (or full Charleston outfit if you wish)\, suitable footwear for moving about and some water.
URL:https://ywidormansland.org.uk/event/meeting-2-2-2/
LOCATION:The Parish Room\, The Platt\, Dormansland\, Lingfield\, Surrey\, RH7 6QZ
CATEGORIES:Meetings
ATTACH;FMTTYPE=image/png:https://ywidormansland.org.uk/wp-content/uploads/2022/01/Charleston-poster.png
END:VEVENT
END:VCALENDAR