BEGIN:VCALENDAR
VERSION:2.0
PRODID:-//YWI Dormansland - ECPv6.15.14//NONSGML v1.0//EN
CALSCALE:GREGORIAN
METHOD:PUBLISH
X-ORIGINAL-URL:https://ywidormansland.org.uk
X-WR-CALDESC:Events for YWI Dormansland
REFRESH-INTERVAL;VALUE=DURATION:PT1H
X-Robots-Tag:noindex
X-PUBLISHED-TTL:PT1H
BEGIN:VTIMEZONE
TZID:UTC
BEGIN:STANDARD
TZOFFSETFROM:+0000
TZOFFSETTO:+0000
TZNAME:UTC
DTSTART:20230101T000000
END:STANDARD
END:VTIMEZONE
BEGIN:VEVENT
DTSTART;TZID=UTC:20240806T190000
DTEND;TZID=UTC:20240806T220000
DTSTAMP:20260421T123609
CREATED:20230508T204414Z
LAST-MODIFIED:20240705T220257Z
UID:1754-1722970800-1722981600@ywidormansland.org.uk
SUMMARY:Step out with the Sole Sisters.
DESCRIPTION:A local circular\, dog-friendly walk. More details to follow but save the date!
URL:https://ywidormansland.org.uk/event/sole-sisters-walk-brunch-2/
CATEGORIES:Walking
ATTACH;FMTTYPE=image/png:https://ywidormansland.org.uk/wp-content/uploads/2021/05/circle-cropped-4.png
END:VEVENT
END:VCALENDAR