BEGIN:VCALENDAR
VERSION:2.0
PRODID:-//YWI Dormansland - ECPv6.15.14//NONSGML v1.0//EN
CALSCALE:GREGORIAN
METHOD:PUBLISH
X-WR-CALNAME:YWI Dormansland
X-ORIGINAL-URL:https://ywidormansland.org.uk
X-WR-CALDESC:Events for YWI Dormansland
REFRESH-INTERVAL;VALUE=DURATION:PT1H
X-Robots-Tag:noindex
X-PUBLISHED-TTL:PT1H
BEGIN:VTIMEZONE
TZID:UTC
BEGIN:STANDARD
TZOFFSETFROM:+0000
TZOFFSETTO:+0000
TZNAME:UTC
DTSTART:20220101T000000
END:STANDARD
END:VTIMEZONE
BEGIN:VEVENT
DTSTART;TZID=UTC:20230506T090000
DTEND;TZID=UTC:20230506T230000
DTSTAMP:20260422T122114
CREATED:20230329T122826Z
LAST-MODIFIED:20230423T170119Z
UID:1720-1683363600-1683414000@ywidormansland.org.uk
SUMMARY:Step out with the Sole Sisters & Brunch
DESCRIPTION:A local walk followed by brunch at the DBC Community Cafe if you’d like to stay. \n\n\n\nMeet at the memorial Hall car park. Will be dog-friendly. \n\n\n\nPlease note the Community Cafe is a public event\, not organised by YWI.
URL:https://ywidormansland.org.uk/event/step-out-with-the-sole-sisters-brunch/
CATEGORIES:Social,Walking
ATTACH;FMTTYPE=image/png:https://ywidormansland.org.uk/wp-content/uploads/2021/05/circle-cropped-4.png
ORGANIZER;CN="YWI Dormansland":MAILTO:infoywidormansland@surreyfedwi.org.uk
END:VEVENT
END:VCALENDAR