BEGIN:VCALENDAR
VERSION:2.0
PRODID:-//YWI Dormansland - ECPv6.15.14//NONSGML v1.0//EN
CALSCALE:GREGORIAN
METHOD:PUBLISH
X-WR-CALNAME:YWI Dormansland
X-ORIGINAL-URL:https://ywidormansland.org.uk
X-WR-CALDESC:Events for YWI Dormansland
REFRESH-INTERVAL;VALUE=DURATION:PT1H
X-Robots-Tag:noindex
X-PUBLISHED-TTL:PT1H
BEGIN:VTIMEZONE
TZID:UTC
BEGIN:STANDARD
TZOFFSETFROM:+0000
TZOFFSETTO:+0000
TZNAME:UTC
DTSTART:20210101T000000
END:STANDARD
END:VTIMEZONE
BEGIN:VEVENT
DTSTART;TZID=UTC:20220712T200000
DTEND;TZID=UTC:20220712T214500
DTSTAMP:20260423T034013
CREATED:20220303T160511Z
LAST-MODIFIED:20220421T095552Z
UID:1098-1657656000-1657662300@ywidormansland.org.uk
SUMMARY:Annual Ramble
DESCRIPTION:More details will follow nearer the time
URL:https://ywidormansland.org.uk/event/meeting-annual-ramble/
LOCATION:TBA
CATEGORIES:Meetings,Walking
ATTACH;FMTTYPE=image/jpeg:https://ywidormansland.org.uk/wp-content/uploads/2021/05/walk2.jpg
ORGANIZER;CN="YWI Dormansland":MAILTO:infoywidormansland@surreyfedwi.org.uk
END:VEVENT
END:VCALENDAR