BEGIN:VCALENDAR
VERSION:2.0
PRODID:-//YWI Dormansland - ECPv6.15.14//NONSGML v1.0//EN
CALSCALE:GREGORIAN
METHOD:PUBLISH
X-ORIGINAL-URL:https://ywidormansland.org.uk
X-WR-CALDESC:Events for YWI Dormansland
REFRESH-INTERVAL;VALUE=DURATION:PT1H
X-Robots-Tag:noindex
X-PUBLISHED-TTL:PT1H
BEGIN:VTIMEZONE
TZID:UTC
BEGIN:STANDARD
TZOFFSETFROM:+0000
TZOFFSETTO:+0000
TZNAME:UTC
DTSTART:20210101T000000
END:STANDARD
END:VTIMEZONE
BEGIN:VEVENT
DTSTART;TZID=UTC:20220704T190000
DTEND;TZID=UTC:20220704T210000
DTSTAMP:20260423T052509
CREATED:20220629T114121Z
LAST-MODIFIED:20220629T114121Z
UID:1271-1656961200-1656968400@ywidormansland.org.uk
SUMMARY:Step Out with the Sole Sisters. Dunnings Mill\, East Grinstead.
DESCRIPTION:A circular walk towards Standen & Weirwood reservoir. Mostly dog-friendly but they may need to go on a lead if livestock in any fields we need to cross. \n\n\n\nStay on for a drink with friends if you’d like to. \n\n\n\nMeet at The Old Dunnings Mill pub\, Dunnings Rd\, East Grinstead RH19 4AT.
URL:https://ywidormansland.org.uk/event/step-out-with-the-soul-sisters-brunch-2-5/
CATEGORIES:Walking
ATTACH;FMTTYPE=image/png:https://ywidormansland.org.uk/wp-content/uploads/2021/05/circle-cropped-4.png
ORGANIZER;CN="Annie":MAILTO:anne.robinson@btinternet.com
END:VEVENT
END:VCALENDAR