BEGIN:VCALENDAR
VERSION:2.0
PRODID:-//YWI Dormansland - ECPv6.15.14//NONSGML v1.0//EN
CALSCALE:GREGORIAN
METHOD:PUBLISH
X-WR-CALNAME:YWI Dormansland
X-ORIGINAL-URL:https://ywidormansland.org.uk
X-WR-CALDESC:Events for YWI Dormansland
REFRESH-INTERVAL;VALUE=DURATION:PT1H
X-Robots-Tag:noindex
X-PUBLISHED-TTL:PT1H
BEGIN:VTIMEZONE
TZID:UTC
BEGIN:STANDARD
TZOFFSETFROM:+0000
TZOFFSETTO:+0000
TZNAME:UTC
DTSTART:20210101T000000
END:STANDARD
END:VTIMEZONE
BEGIN:VEVENT
DTSTART;TZID=UTC:20220625T093000
DTEND;TZID=UTC:20220625T113000
DTSTAMP:20260423T052312
CREATED:20220524T113312Z
LAST-MODIFIED:20220629T113531Z
UID:1218-1656149400-1656156600@ywidormansland.org.uk
SUMMARY:Step Out with the Sole Sisters & Brunch
DESCRIPTION:A local walk followed by brunch at the DBC Community Cafe if you’d like to stay. \n\n\n\nMeet at The Plough.
URL:https://ywidormansland.org.uk/event/step-out-with-the-soul-sisters-brunch/
CATEGORIES:Walking
ATTACH;FMTTYPE=image/png:https://ywidormansland.org.uk/wp-content/uploads/2021/05/circle-cropped-4.png
ORGANIZER;CN="YWI Dormansland":MAILTO:infoywidormansland@surreyfedwi.org.uk
END:VEVENT
END:VCALENDAR