BEGIN:VCALENDAR
VERSION:2.0
PRODID:-//YWI Dormansland - ECPv6.15.14//NONSGML v1.0//EN
CALSCALE:GREGORIAN
METHOD:PUBLISH
X-ORIGINAL-URL:https://ywidormansland.org.uk
X-WR-CALDESC:Events for YWI Dormansland
REFRESH-INTERVAL;VALUE=DURATION:PT1H
X-Robots-Tag:noindex
X-PUBLISHED-TTL:PT1H
BEGIN:VTIMEZONE
TZID:UTC
BEGIN:STANDARD
TZOFFSETFROM:+0000
TZOFFSETTO:+0000
TZNAME:UTC
DTSTART:20210101T000000
END:STANDARD
END:VTIMEZONE
BEGIN:VEVENT
DTSTART;TZID=UTC:20220614T200000
DTEND;TZID=UTC:20220614T214500
DTSTAMP:20260423T052536
CREATED:20220303T160112Z
LAST-MODIFIED:20220421T095627Z
UID:1095-1655236800-1655243100@ywidormansland.org.uk
SUMMARY:Carnival Prep & Social
DESCRIPTION:
URL:https://ywidormansland.org.uk/event/meeting-carnival-prep-social/
LOCATION:The Parish Room\, The Platt\, Dormansland\, Lingfield\, Surrey\, RH7 6QZ
CATEGORIES:Meetings
ATTACH;FMTTYPE=image/jpeg:https://ywidormansland.org.uk/wp-content/uploads/2022/03/KCMoreDetails.jpg
ORGANIZER;CN="YWI Dormansland":MAILTO:infoywidormansland@surreyfedwi.org.uk
END:VEVENT
END:VCALENDAR