BEGIN:VCALENDAR
VERSION:2.0
PRODID:-//YWI Dormansland - ECPv6.15.14//NONSGML v1.0//EN
CALSCALE:GREGORIAN
METHOD:PUBLISH
X-ORIGINAL-URL:https://ywidormansland.org.uk
X-WR-CALDESC:Events for YWI Dormansland
REFRESH-INTERVAL;VALUE=DURATION:PT1H
X-Robots-Tag:noindex
X-PUBLISHED-TTL:PT1H
BEGIN:VTIMEZONE
TZID:UTC
BEGIN:STANDARD
TZOFFSETFROM:+0000
TZOFFSETTO:+0000
TZNAME:UTC
DTSTART:20210101T000000
END:STANDARD
END:VTIMEZONE
BEGIN:VEVENT
DTSTART;TZID=UTC:20220208T200000
DTEND;TZID=UTC:20220208T214500
DTSTAMP:20260423T112533
CREATED:20211206T212717Z
LAST-MODIFIED:20220113T112612Z
UID:988-1644350400-1644356700@ywidormansland.org.uk
SUMMARY:Meeting - Come Sing with The Singing Mamas!
DESCRIPTION:Come along and sing your heart out!! \n\n\n\nWe have Megan Fitter with us who runs the Lingfield branch of Singing Mamas Choirs on Saturday mornings. For more details about the Singing Mamas brand please click here.  \n\n\n\nDetails about the Lingfield branch specifically can be found here. \n\n\n\n\n\nMegan
URL:https://ywidormansland.org.uk/event/meeting-2/
LOCATION:The Parish Room\, The Platt\, Dormansland\, Lingfield\, Surrey\, RH7 6QZ
CATEGORIES:Meetings
ATTACH;FMTTYPE=image/png:https://ywidormansland.org.uk/wp-content/uploads/2021/12/singClip.png
END:VEVENT
END:VCALENDAR